BEGIN:VCALENDAR
VERSION:2.0
PRODID:-//Westmount Gallery - ECPv6.15.20//NONSGML v1.0//EN
CALSCALE:GREGORIAN
METHOD:PUBLISH
X-WR-CALNAME:Westmount Gallery
X-ORIGINAL-URL:https://westmountgallery.com
X-WR-CALDESC:Events for Westmount Gallery
REFRESH-INTERVAL;VALUE=DURATION:PT1H
X-Robots-Tag:noindex
X-PUBLISHED-TTL:PT1H
BEGIN:VTIMEZONE
TZID:America/Toronto
BEGIN:DAYLIGHT
TZOFFSETFROM:-0500
TZOFFSETTO:-0400
TZNAME:EDT
DTSTART:20240310T070000
END:DAYLIGHT
BEGIN:STANDARD
TZOFFSETFROM:-0400
TZOFFSETTO:-0500
TZNAME:EST
DTSTART:20241103T060000
END:STANDARD
BEGIN:DAYLIGHT
TZOFFSETFROM:-0500
TZOFFSETTO:-0400
TZNAME:EDT
DTSTART:20250309T070000
END:DAYLIGHT
BEGIN:STANDARD
TZOFFSETFROM:-0400
TZOFFSETTO:-0500
TZNAME:EST
DTSTART:20251102T060000
END:STANDARD
BEGIN:DAYLIGHT
TZOFFSETFROM:-0500
TZOFFSETTO:-0400
TZNAME:EDT
DTSTART:20260308T070000
END:DAYLIGHT
BEGIN:STANDARD
TZOFFSETFROM:-0400
TZOFFSETTO:-0500
TZNAME:EST
DTSTART:20261101T060000
END:STANDARD
END:VTIMEZONE
BEGIN:VEVENT
DTSTART;TZID=America/Toronto:20250805T150000
DTEND;TZID=America/Toronto:20250805T163000
DTSTAMP:20260421T050117
CREATED:20250729T210314Z
LAST-MODIFIED:20250729T211120Z
UID:3139-1754406000-1754411400@westmountgallery.com
SUMMARY:Water Colour Class Tuesdays - Summer Bouquet
DESCRIPTION:100 dollars for 4 classes (3-4:30pm\, Aug 5\, 12\, 19 and 26).\n\nAll materials included.\n<<REGISTER HERE>>\n  \n \n \n20250724 164739 \n 
URL:https://westmountgallery.com/event/water-colour-class-tuesdays-summer-bouquet/
LOCATION:Westmount Gallery\, 4140 Dundas Street West\, Toronto\, Ontario\, M8X1X3\, Canada
ORGANIZER;CN="June Wang":MAILTO:westmountgallery@bellnet.ca
END:VEVENT
END:VCALENDAR